BEGIN:VCALENDAR
VERSION:2.0
PRODID:icalendar-ruby
CALSCALE:GREGORIAN
METHOD:PUBLISH
BEGIN:VEVENT
DTSTAMP:20260419T212325Z
UID:7-482580@threeforksumc.com
DTSTART:20261025T163000Z
DTEND:20261025T173000Z
CLASS:PUBLIC
CREATED:20260419T132141
DESCRIPTION:Sunday Worship
LAST-MODIFIED:20260419T132141
LOCATION:Three Forks Sanctuary
SUMMARY:Sunday Worship
URL;VALUE=URI:https://threeforksumc.com/events/sunday-worship--6/2026-10-25
END:VEVENT
END:VCALENDAR
