BEGIN:VCALENDAR
VERSION:2.0
PRODID:icalendar-ruby
CALSCALE:GREGORIAN
METHOD:PUBLISH
BEGIN:VEVENT
DTSTAMP:20260419T193047Z
UID:7-482218@threeforksumc.com
DTSTART:20261018T163000Z
DTEND:20261018T173000Z
CLASS:PUBLIC
CREATED:20260419T093918
DESCRIPTION:Sunday Worship
LAST-MODIFIED:20260419T093918
LOCATION:Three Forks Sanctuary
SUMMARY:Sunday Worship
URL;VALUE=URI:https://threeforksumc.com/events/sunday-worship--6/2026-10-18
END:VEVENT
END:VCALENDAR
