BEGIN:VCALENDAR
VERSION:2.0
PRODID:icalendar-ruby
CALSCALE:GREGORIAN
METHOD:PUBLISH
BEGIN:VEVENT
DTSTAMP:20260419T161645Z
UID:7-481856@threeforksumc.com
DTSTART:20261004T163000Z
DTEND:20261004T173000Z
CLASS:PUBLIC
CREATED:20260419T055723
DESCRIPTION:Sunday Worship
LAST-MODIFIED:20260419T055723
LOCATION:Three Forks Sanctuary
SUMMARY:Sunday Worship
URL;VALUE=URI:https://threeforksumc.com/events/sunday-worship--6/2026-10-04
END:VEVENT
END:VCALENDAR
